
BEGIN:VCALENDAR
VERSION:2.0
PRODID:-//wp-events-plugin.com//6.6.4.4//EN
TZID:America/New_York
X-WR-TIMEZONE:America/New_York
BEGIN:VEVENT
UID:5027@baileylibrary.org
DTSTART;TZID=America/New_York:20260826T183000
DTEND;TZID=America/New_York:20260826T183000
DTSTAMP:20260414T183626Z
URL:https://www.baileylibrary.org/events/lakes-region-forum-jennifer-braun
 fels/
SUMMARY:Lakes Region Forum – Jennifer Braunfels
DESCRIPTION:Join us as we welcome Maine author Jennifer Braunfels! Jennifer
  will be discussing her debut novel\, Everything You Love Ends Up in a Yar
 d Sale. FMI: Contact Michael at reference@baileylibrary.org.
ATTACH;FMTTYPE=image/jpeg:https://www.baileylibrary.org/wp-content/uploads
 /2026/02/Jennifer-Braunfels-resized.jpg
CATEGORIES:Adults
END:VEVENT
BEGIN:VTIMEZONE
TZID:America/New_York
X-LIC-LOCATION:America/New_York
BEGIN:DAYLIGHT
DTSTART:20260308T030000
TZOFFSETFROM:-0500
TZOFFSETTO:-0400
TZNAME:EDT
END:DAYLIGHT
END:VTIMEZONE
END:VCALENDAR