
BEGIN:VCALENDAR
VERSION:2.0
PRODID:-//wp-events-plugin.com//6.6.4.4//EN
TZID:America/New_York
X-WR-TIMEZONE:America/New_York
BEGIN:VEVENT
UID:2553@baileylibrary.org
DTSTART;TZID=America/New_York:20250528T183000
DTEND;TZID=America/New_York:20250528T183000
DTSTAMP:20250429T182156Z
URL:https://www.baileylibrary.org/events/lakes-region-forum-claire-hersom-
 2/
SUMMARY:Lakes Region Forum – Claire Hersom
DESCRIPTION:Join us as we welcome Winthrop poet and novelist Claire Hersom 
 to kick off our first Lakes Region Forum of the season! Claire will be dis
 cussing her new book Smithville Junction: A Maine Novel. FMI: Contact Mich
 ael at mstanley@baileylibrary.org.
ATTACH;FMTTYPE=image/jpeg:https://www.baileylibrary.org/wp-content/uploads
 /2025/04/Adobe-Express-file.png
CATEGORIES:Adults
END:VEVENT
BEGIN:VTIMEZONE
TZID:America/New_York
X-LIC-LOCATION:America/New_York
BEGIN:DAYLIGHT
DTSTART:20250309T030000
TZOFFSETFROM:-0500
TZOFFSETTO:-0400
TZNAME:EDT
END:DAYLIGHT
END:VTIMEZONE
END:VCALENDAR