
BEGIN:VCALENDAR
VERSION:2.0
PRODID:-//wp-events-plugin.com//6.6.4.4//EN
TZID:America/New_York
X-WR-TIMEZONE:America/New_York
BEGIN:VEVENT
UID:530@baileylibrary.org
DTSTART;TZID=America/New_York:20240626T183000
DTEND;TZID=America/New_York:20240626T183000
DTSTAMP:20240325T194122Z
URL:https://www.baileylibrary.org/events/lakes-region-forum-caitlin-shette
 rly/
SUMMARY:Lakes Region Forum – Caitlin Shetterly
DESCRIPTION:WEDNESDAY – Join us as we welcome Maine native\, Caitlin Shet
 terly\, to discuss her latest book\, Pete and Alice in Maine. Shetterly’
 s book has received excellent reviews and was an Amazon Books Editor’s P
 ick for Best Literature and Fiction in July 2023. FMI: Contact Leigh at l
 wilkinson@baileylibrary.org.
ATTACH;FMTTYPE=image/jpeg:https://www.baileylibrary.org/wp-content/uploads
 /2023/12/caitlin-shetterly.jpg
CATEGORIES:Adults
END:VEVENT
BEGIN:VTIMEZONE
TZID:America/New_York
X-LIC-LOCATION:America/New_York
BEGIN:DAYLIGHT
DTSTART:20240310T030000
TZOFFSETFROM:-0500
TZOFFSETTO:-0400
TZNAME:EDT
END:DAYLIGHT
END:VTIMEZONE
END:VCALENDAR