
BEGIN:VCALENDAR
VERSION:2.0
PRODID:-//wp-events-plugin.com//6.6.4.4//EN
TZID:America/New_York
X-WR-TIMEZONE:America/New_York
BEGIN:VEVENT
UID:4890@baileylibrary.org
DTSTART;TZID=America/New_York:20260624T183000
DTEND;TZID=America/New_York:20260624T183000
DTSTAMP:20260330T184528Z
URL:https://www.baileylibrary.org/events/lakes-region-forum-caitlin-shette
 rly-2/
SUMMARY:Lakes Region Forum – Caitlin Shetterly
DESCRIPTION:Join us as we welcome Maine author Caitlin Shetterly! Caitlin w
 ill be discussing her new book\, The Gulf of Lions. For more information\,
  contact Michael at reference@baileylibrary.org.
ATTACH;FMTTYPE=image/jpeg:https://www.baileylibrary.org/wp-content/uploads
 /2026/02/Caitlin-Shetterly-resized.jpg
CATEGORIES:Adults
END:VEVENT
BEGIN:VTIMEZONE
TZID:America/New_York
X-LIC-LOCATION:America/New_York
BEGIN:DAYLIGHT
DTSTART:20260308T030000
TZOFFSETFROM:-0500
TZOFFSETTO:-0400
TZNAME:EDT
END:DAYLIGHT
END:VTIMEZONE
END:VCALENDAR