
BEGIN:VCALENDAR
VERSION:2.0
PRODID:-//wp-events-plugin.com//6.6.4.4//EN
TZID:America/New_York
X-WR-TIMEZONE:America/New_York
BEGIN:VEVENT
UID:2297@baileylibrary.org
DTSTART;TZID=America/New_York:20250723T183000
DTEND;TZID=America/New_York:20250723T183000
DTSTAMP:20250429T175026Z
URL:https://www.baileylibrary.org/events/lakes-region-forum-bill-roorbach/
SUMMARY:Lakes Region Forum – Bill Roorbach
DESCRIPTION:Join us as we welcome bestselling Maine author Bill Roorbach! B
 ill will be discussing his most recent book\, Beep. FMI: Contact Michael a
 t mstanley@baileylibrary.org.
ATTACH;FMTTYPE=image/jpeg:https://www.baileylibrary.org/wp-content/uploads
 /2025/04/Bill-Roorbach-resized.jpg
CATEGORIES:Adults
END:VEVENT
BEGIN:VTIMEZONE
TZID:America/New_York
X-LIC-LOCATION:America/New_York
BEGIN:DAYLIGHT
DTSTART:20250309T030000
TZOFFSETFROM:-0500
TZOFFSETTO:-0400
TZNAME:EDT
END:DAYLIGHT
END:VTIMEZONE
END:VCALENDAR