
BEGIN:VCALENDAR
VERSION:2.0
PRODID:-//wp-events-plugin.com//6.6.4.4//EN
TZID:America/New_York
X-WR-TIMEZONE:America/New_York
BEGIN:VEVENT
UID:2595@baileylibrary.org
DTSTART;TZID=America/New_York:20250725T130000
DTEND;TZID=America/New_York:20250725T130000
DTSTAMP:20250528T183050Z
URL:https://www.baileylibrary.org/events/kids-music-with-mr-harley-2/
SUMMARY:Kids Music with Mr. Harley!
DESCRIPTION:Join us for an hour of excitement with the one and only childre
 n's musician\, Mr. Harley! This is always a popular event! Mr. Harley enga
 ges children with original music\, funny anecdotes\, and audience particip
 ation. FMI: Email Stacy at stomassone@baileylibrary.org.
ATTACH;FMTTYPE=image/jpeg:https://www.baileylibrary.org/wp-content/uploads
 /2024/07/MrHarley-resized.jpg
CATEGORIES:Kids
END:VEVENT
BEGIN:VTIMEZONE
TZID:America/New_York
X-LIC-LOCATION:America/New_York
BEGIN:DAYLIGHT
DTSTART:20250309T030000
TZOFFSETFROM:-0500
TZOFFSETTO:-0400
TZNAME:EDT
END:DAYLIGHT
END:VTIMEZONE
END:VCALENDAR