
BEGIN:VCALENDAR
VERSION:2.0
PRODID:-//wp-events-plugin.com//6.6.4.4//EN
TZID:America/New_York
X-WR-TIMEZONE:America/New_York
BEGIN:VEVENT
UID:5028@baileylibrary.org
DTSTART;TZID=America/New_York:20260314T110000
DTEND;TZID=America/New_York:20260314T110000
DTSTAMP:20260217T180425Z
URL:https://www.baileylibrary.org/events/irish-singalong-with-bailey-ukule
 le/
SUMMARY:Irish Singalong with Bailey Ukulele!
DESCRIPTION:Come join our special event in honor of St. Patrick's Day! Bail
 ey Ukulele is excited to host this Irish singalong for the public to enjoy
 . Come to sing or just come to listen. All are welcome. Songs will include
  Danny Boy\, Molly Malone\, Whiskey in the Jar\, I'll Tell Me Ma\, When Ir
 ish Eyes are Smiling\, and more. For more information\, email Michael at m
 stanley@baileylibrary.org.
ATTACH;FMTTYPE=image/jpeg:https://www.baileylibrary.org/wp-content/uploads
 /2026/02/Uke-Irish-Singalong-resized.jpg
CATEGORIES:Adults,Kids,Teens
END:VEVENT
BEGIN:VTIMEZONE
TZID:America/New_York
X-LIC-LOCATION:America/New_York
BEGIN:DAYLIGHT
DTSTART:20260308T030000
TZOFFSETFROM:-0500
TZOFFSETTO:-0400
TZNAME:EDT
END:DAYLIGHT
END:VTIMEZONE
END:VCALENDAR