
BEGIN:VCALENDAR
VERSION:2.0
PRODID:-//wp-events-plugin.com//6.6.4.4//EN
TZID:America/New_York
X-WR-TIMEZONE:America/New_York
BEGIN:VEVENT
UID:798@baileylibrary.org
DTSTART;TZID=America/New_York:20240212T110000
DTEND;TZID=America/New_York:20240212T110000
DTSTAMP:20240210T180650Z
URL:https://www.baileylibrary.org/events/homeschool-class/
SUMMARY:Homeschool Class &#8211\; Valentine&#8217\;s Day Arts &#038\; Craft
 s!
DESCRIPTION:Come join our monthly class for homeschoolers! This month\, we 
 will read a silly Valentine's Day story and create Valentine's Day inspire
 d art. Open to all ages and skill levels. For more information\, email Sta
 cy at stomassone@baileylibrary.org.
ATTACH;FMTTYPE=image/jpeg:https://www.baileylibrary.org/wp-content/uploads
 /2024/02/homeschool-resized.jpg
CATEGORIES:Homeschoolers,Kids,Teens
END:VEVENT
BEGIN:VTIMEZONE
TZID:America/New_York
X-LIC-LOCATION:America/New_York
BEGIN:STANDARD
DTSTART:20231105T010000
TZOFFSETFROM:-0400
TZOFFSETTO:-0500
TZNAME:EST
END:STANDARD
END:VTIMEZONE
END:VCALENDAR