
BEGIN:VCALENDAR
VERSION:2.0
PRODID:-//wp-events-plugin.com//6.6.4.4//EN
TZID:America/New_York
X-WR-TIMEZONE:America/New_York
BEGIN:VEVENT
UID:804@baileylibrary.org
DTSTART;TZID=America/New_York:20240311T110000
DTEND;TZID=America/New_York:20240311T110000
DTSTAMP:20240229T220846Z
URL:https://www.baileylibrary.org/events/homeschool-class-valentines-day-a
 rts-crafts/
SUMMARY:Homeschool Class – Glass Suncatchers!
DESCRIPTION:Come join our monthly class for homeschoolers! This month\, we 
 will be making glass suncatchers with the help of Stained Glass Express fr
 om Manchester. Open to all ages and skill levels. Please register for this
  event ahead of time by emailing Stacy at stomassone@baileylibrary.org.\n\
 n
ATTACH;FMTTYPE=image/jpeg:https://www.baileylibrary.org/wp-content/uploads
 /2024/02/homeschool-resized.jpg
CATEGORIES:Homeschoolers,Kids,Teens
END:VEVENT
BEGIN:VTIMEZONE
TZID:America/New_York
X-LIC-LOCATION:America/New_York
BEGIN:DAYLIGHT
DTSTART:20240310T030000
TZOFFSETFROM:-0500
TZOFFSETTO:-0400
TZNAME:EDT
END:DAYLIGHT
END:VTIMEZONE
END:VCALENDAR