
BEGIN:VCALENDAR
VERSION:2.0
PRODID:-//wp-events-plugin.com//6.6.4.4//EN
TZID:America/New_York
X-WR-TIMEZONE:America/New_York
BEGIN:VEVENT
UID:1183@baileylibrary.org
DTSTART;TZID=America/New_York:20240610T110000
DTEND;TZID=America/New_York:20240610T110000
DTSTAMP:20240520T214905Z
URL:https://www.baileylibrary.org/events/homeschool-class-library-skills-s
 ummer-reading/
SUMMARY:Homeschool Class – Library Skills &#038\; Summer Reading
DESCRIPTION:Come join our monthly class for homeschoolers! This month will 
 be focused on library skills and our Summer Reading program! Open to all a
 ges and skill levels. Please register for this event ahead of time by emai
 ling Stacy at stomassone@baileylibrary.org.
ATTACH;FMTTYPE=image/jpeg:https://www.baileylibrary.org/wp-content/uploads
 /2024/02/homeschool-resized.jpg
CATEGORIES:Homeschoolers,Kids,Teens
END:VEVENT
BEGIN:VTIMEZONE
TZID:America/New_York
X-LIC-LOCATION:America/New_York
BEGIN:DAYLIGHT
DTSTART:20240310T030000
TZOFFSETFROM:-0500
TZOFFSETTO:-0400
TZNAME:EDT
END:DAYLIGHT
END:VTIMEZONE
END:VCALENDAR