
BEGIN:VCALENDAR
VERSION:2.0
PRODID:-//wp-events-plugin.com//6.6.4.4//EN
TZID:America/New_York
X-WR-TIMEZONE:America/New_York
BEGIN:VEVENT
UID:810@baileylibrary.org
DTSTART;TZID=America/New_York:20240511T100000
DTEND;TZID=America/New_York:20240511T130000
DTSTAMP:20240411T155214Z
URL:https://www.baileylibrary.org/events/friends-of-the-library-cookie-wal
 k-and-mini-book-sale/
SUMMARY:Friends of the Library Cookie Walk and mini book sale
DESCRIPTION:Spring is in full swing\, come celebrate with a cookie walk and
  mini book sale courtesy of the Friends of Bailey Library! Here's how it w
 orks: you purchase a bag for $8\, and you get to choose what kinds of cook
 ies go in it. The Friends will have baked off a mouthwatering assortment o
 f cookies for you to choose from\, how can you get only one bag?!\nIn addi
 tion to the cookie walk\, there will also be a mini book sale. We've colle
 cted thousands and thousands of books since the Friend Group's last sale\,
  and they're eager to show you what's available.\nAll proceeds benefit the
  Bailey Public Library. For more information\, email jlebrun@gwi.net
ATTACH;FMTTYPE=image/jpeg:https://www.baileylibrary.org/wp-content/uploads
 /2024/04/cookie-walk-cal-event.png
CATEGORIES:Adults,Kids,Teens
END:VEVENT
BEGIN:VTIMEZONE
TZID:America/New_York
X-LIC-LOCATION:America/New_York
BEGIN:DAYLIGHT
DTSTART:20240310T030000
TZOFFSETFROM:-0500
TZOFFSETTO:-0400
TZNAME:EDT
END:DAYLIGHT
END:VTIMEZONE
END:VCALENDAR