
BEGIN:VCALENDAR
VERSION:2.0
PRODID:-//wp-events-plugin.com//6.6.4.4//EN
TZID:America/New_York
X-WR-TIMEZONE:America/New_York
BEGIN:VEVENT
UID:4033@baileylibrary.org
DTSTART;TZID=America/New_York:20260725T130000
DTEND;TZID=America/New_York:20260725T130000
DTSTAMP:20260331T180551Z
URL:https://www.baileylibrary.org/events/crooked-house-book-club-2026-07-2
 5/
SUMMARY:Crooked House Book Club
DESCRIPTION:For the month of July\, the group will meet on the 4th Saturday
 \, returning to the 3rd Saturday of the month in August. Join us on the t
 hird Saturday of each month for a social hour with Shane Billings dissect
 ing the work of Agatha Christie\, the bestselling novelist of all time. Ea
 ch month a different specific work of the Queen of Mystery will be picked 
 for the group to read and then discuss. Email sbillings@baileylibrary.org 
 for more information.
ATTACH;FMTTYPE=image/jpeg:https://www.baileylibrary.org/wp-content/uploads
 /2024/08/CrookedHouseLogo-Resized.png
CATEGORIES:Adults
END:VEVENT
BEGIN:VTIMEZONE
TZID:America/New_York
X-LIC-LOCATION:America/New_York
BEGIN:DAYLIGHT
DTSTART:20260308T030000
TZOFFSETFROM:-0500
TZOFFSETTO:-0400
TZNAME:EDT
END:DAYLIGHT
END:VTIMEZONE
END:VCALENDAR