
BEGIN:VCALENDAR
VERSION:2.0
PRODID:-//wp-events-plugin.com//6.6.4.4//EN
TZID:America/New_York
X-WR-TIMEZONE:America/New_York
BEGIN:VEVENT
UID:1660@baileylibrary.org
DTSTART;TZID=America/New_York:20240913T130000
DTEND;TZID=America/New_York:20240913T130000
DTSTAMP:20240822T162409Z
URL:https://www.baileylibrary.org/events/crooked-house-book-club-2024-09-1
 3/
SUMMARY:Crooked House Book Club
DESCRIPTION:Join us for a social hour with Shane Billings dissecting the wo
 rk of Agatha Christie\, the bestselling novelist of all time. This initial
  meeting will be a general discussion touching on a range of topics\, such
  as: how long you've been a fan\; what you love most about the legendary a
 uthor\; and whether you are Team Marple or Team Poirot. Future discussions
  - taking place the second Friday of each month - will focus on specific b
 ooks. Email sbillings@baileylibrary.org to sign up!
ATTACH;FMTTYPE=image/jpeg:https://www.baileylibrary.org/wp-content/uploads
 /2024/08/file-2.jpg
CATEGORIES:Adults
END:VEVENT
BEGIN:VTIMEZONE
TZID:America/New_York
X-LIC-LOCATION:America/New_York
BEGIN:DAYLIGHT
DTSTART:20240310T030000
TZOFFSETFROM:-0500
TZOFFSETTO:-0400
TZNAME:EDT
END:DAYLIGHT
END:VTIMEZONE
END:VCALENDAR