
BEGIN:VCALENDAR
VERSION:2.0
PRODID:-//wp-events-plugin.com//6.6.4.4//EN
TZID:America/New_York
X-WR-TIMEZONE:America/New_York
BEGIN:VEVENT
UID:1185@baileylibrary.org
DTSTART;TZID=America/New_York:20240625T120000
DTEND;TZID=America/New_York:20240625T160000
DTSTAMP:20240523T210145Z
URL:https://www.baileylibrary.org/events/community-job-fair/
SUMMARY:Community Job Fair
DESCRIPTION:We are partnering with Kennebec Neighbors Adult Education to ho
 st a job fair on a Tuesday afternoon from 12pm to 4pm in our King event ro
 om downstairs. This job fair will feature local employers and recruiters w
 ho are looking to hire in the area. It is open to recent graduates and cur
 rent students of the adult education program\, as well as any community me
 mbers of legal working age. For more information\, please contact Leigh at
  lwilkinson@baileylibrary.org.
ATTACH;FMTTYPE=image/jpeg:https://www.baileylibrary.org/wp-content/uploads
 /2024/05/file-1.png
CATEGORIES:Adults,Teens
END:VEVENT
BEGIN:VTIMEZONE
TZID:America/New_York
X-LIC-LOCATION:America/New_York
BEGIN:DAYLIGHT
DTSTART:20240310T030000
TZOFFSETFROM:-0500
TZOFFSETTO:-0400
TZNAME:EDT
END:DAYLIGHT
END:VTIMEZONE
END:VCALENDAR