
BEGIN:VCALENDAR
VERSION:2.0
PRODID:-//wp-events-plugin.com//6.6.4.4//EN
TZID:America/New_York
X-WR-TIMEZONE:America/New_York
BEGIN:VEVENT
UID:2601@baileylibrary.org
DTSTART;TZID=America/New_York:20250711T130000
DTEND;TZID=America/New_York:20250711T130000
DTSTAMP:20250528T184456Z
URL:https://www.baileylibrary.org/events/chewonki-bugmobile-2/
SUMMARY:Chewonki Bugmobile
DESCRIPTION:Join us for an exciting presentation by the renowned Chewonki e
 ducators! Is a bug an insect? Is a spider a bug? Using models\, costumes\,
  and live specimens\, the presenter will explain the unique characteristic
 s of the four major groups of arthropods and introduce you to some of thei
 r fascinating adaptations. FMI: Email Stacy at stomassone@baileylibrary.o
 rg.
ATTACH;FMTTYPE=image/jpeg:https://www.baileylibrary.org/wp-content/uploads
 /2025/05/Chewonki2resized.png
CATEGORIES:Kids
END:VEVENT
BEGIN:VTIMEZONE
TZID:America/New_York
X-LIC-LOCATION:America/New_York
BEGIN:DAYLIGHT
DTSTART:20250309T030000
TZOFFSETFROM:-0500
TZOFFSETTO:-0400
TZNAME:EDT
END:DAYLIGHT
END:VTIMEZONE
END:VCALENDAR