
BEGIN:VCALENDAR
VERSION:2.0
PRODID:-//wp-events-plugin.com//6.6.4.4//EN
TZID:America/New_York
X-WR-TIMEZONE:America/New_York
BEGIN:VEVENT
UID:4215@baileylibrary.org
DTSTART;TZID=America/New_York:20260710T180000
DTEND;TZID=America/New_York:20260710T180000
DTSTAMP:20251104T222940Z
URL:https://www.baileylibrary.org/events/bailey-trivia-night-2026-07-10/
SUMMARY:Bailey Trivia Night!
DESCRIPTION:Join us for Bailey Trivia Night with Nick Perry! For the month 
 of July\, Trivia Night will be held on the 2nd Friday. We will return to t
 he 1st Friday of the month in August. Event will be held in the King Event
  Room of the Bailey Library. Bring your own beverages. Snacks will be prov
 ided. FMI: Contact Nick at nperry@baileylibrary.org.
ATTACH;FMTTYPE=image/jpeg:https://www.baileylibrary.org/wp-content/uploads
 /2019/12/trivia.jpg
CATEGORIES:Adults
END:VEVENT
BEGIN:VTIMEZONE
TZID:America/New_York
X-LIC-LOCATION:America/New_York
BEGIN:DAYLIGHT
DTSTART:20260308T030000
TZOFFSETFROM:-0500
TZOFFSETTO:-0400
TZNAME:EDT
END:DAYLIGHT
END:VTIMEZONE
END:VCALENDAR