
BEGIN:VCALENDAR
VERSION:2.0
PRODID:-//wp-events-plugin.com//6.6.4.4//EN
TZID:America/New_York
X-WR-TIMEZONE:America/New_York
BEGIN:VEVENT
UID:4208@baileylibrary.org
DTSTART;TZID=America/New_York:20251212T180000
DTEND;TZID=America/New_York:20251212T180000
DTSTAMP:20251104T222922Z
URL:https://www.baileylibrary.org/events/bailey-trivia-night-2025-12-12/
SUMMARY:Bailey Trivia Night!
DESCRIPTION:Join us for Bailey Trivia Night with Nick Perry! For the month 
 of December\, Trivia Night will be held on the 2nd Friday. We will return 
 to the 1st Friday of the month in January. Event will be held in the King 
 Event Room of the Bailey Library. Bring your own beverages. Snacks will be
  provided. FMI: Contact Nick at nperry@baileylibrary.org.
ATTACH;FMTTYPE=image/jpeg:https://www.baileylibrary.org/wp-content/uploads
 /2019/12/trivia.jpg
CATEGORIES:Adults
END:VEVENT
BEGIN:VTIMEZONE
TZID:America/New_York
X-LIC-LOCATION:America/New_York
BEGIN:STANDARD
DTSTART:20251102T010000
TZOFFSETFROM:-0400
TZOFFSETTO:-0500
TZNAME:EST
END:STANDARD
END:VTIMEZONE
END:VCALENDAR