
BEGIN:VCALENDAR
VERSION:2.0
PRODID:-//wp-events-plugin.com//6.6.4.4//EN
TZID:America/New_York
X-WR-TIMEZONE:America/New_York
BEGIN:VEVENT
UID:4200@baileylibrary.org
DTSTART;TZID=America/New_York:20260626T130000
DTEND;TZID=America/New_York:20260626T130000
DTSTAMP:20260331T181541Z
URL:https://www.baileylibrary.org/events/bailey-title-waves-book-club-2026
 -06-26/
SUMMARY:Bailey Title Waves Book Club
DESCRIPTION:For the months of June and July\, we will meet on the 4th Frida
 y. We will return to the 3rd Friday of the month in August. Join us on the
  third Friday of every month for a lively discussion with the Title Waves 
 book club. Each month we choose a recent notable fiction title to read and
  discuss. For more information including this month's title and to sign up
  to participate\, please email adult librarian Michael Stanley at referenc
 e@baileylibrary.org.
ATTACH;FMTTYPE=image/jpeg:https://www.baileylibrary.org/wp-content/uploads
 /2024/01/TitleWavesLogo-Resized.png
CATEGORIES:Adults
END:VEVENT
BEGIN:VTIMEZONE
TZID:America/New_York
X-LIC-LOCATION:America/New_York
BEGIN:DAYLIGHT
DTSTART:20260308T030000
TZOFFSETFROM:-0500
TZOFFSETTO:-0400
TZNAME:EDT
END:DAYLIGHT
END:VTIMEZONE
END:VCALENDAR