
BEGIN:VCALENDAR
VERSION:2.0
PRODID:-//wp-events-plugin.com//6.6.4.4//EN
TZID:America/New_York
X-WR-TIMEZONE:America/New_York
BEGIN:VEVENT
UID:2151@baileylibrary.org
DTSTART;TZID=America/New_York:20250711T130000
DTEND;TZID=America/New_York:20250711T130000
DTSTAMP:20250226T215043Z
URL:https://www.baileylibrary.org/events/bailey-title-waves-book-club-2025
 -07-18/
SUMMARY:Bailey Title Waves Book Club
DESCRIPTION:NOTE: this month only\, we are meeting on the second Friday of 
 the month. Join us on the third Friday of every month for a lively discuss
 ion with the Title Waves book club. Each month we choose a recent notable 
 fiction title to read and discuss. For more information\, including this m
 onth's title and to sign up to participate\, please email Adult Services L
 ibrarian Michael Stanley at mstanley@baileylibrary.org.
ATTACH;FMTTYPE=image/jpeg:https://www.baileylibrary.org/wp-content/uploads
 /2022/11/boooookclub.jpg
CATEGORIES:Adults
END:VEVENT
BEGIN:VTIMEZONE
TZID:America/New_York
X-LIC-LOCATION:America/New_York
BEGIN:DAYLIGHT
DTSTART:20250309T030000
TZOFFSETFROM:-0500
TZOFFSETTO:-0400
TZNAME:EDT
END:DAYLIGHT
END:VTIMEZONE
END:VCALENDAR