
BEGIN:VCALENDAR
VERSION:2.0
PRODID:-//wp-events-plugin.com//6.6.4.4//EN
TZID:America/New_York
X-WR-TIMEZONE:America/New_York
BEGIN:VEVENT
UID:4727@baileylibrary.org
DTSTART;TZID=America/New_York:20260725T103000
DTEND;TZID=America/New_York:20260725T103000
DTSTAMP:20260112T193905Z
URL:https://www.baileylibrary.org/events/bailey-slow-jam-2-2026-07-25/
SUMMARY:Bailey Slow Jam
DESCRIPTION:For the month of July\, Bailey Slow Jam will meet on the 4th Sa
 turday of the month. We will return to the 3rd Saturday in August. Join us
  each month for our Bailey Acoustic “Slooow” Jam Group. FMI or to get 
 sheet music\, contact volunteer Joanne Lebrun at jlebrun148@gmail.com.
ATTACH;FMTTYPE=image/jpeg:https://www.baileylibrary.org/wp-content/uploads
 /2025/10/Slow-Jam.jpg
CATEGORIES:Adults,Teens
END:VEVENT
BEGIN:VTIMEZONE
TZID:America/New_York
X-LIC-LOCATION:America/New_York
BEGIN:DAYLIGHT
DTSTART:20260308T030000
TZOFFSETFROM:-0500
TZOFFSETTO:-0400
TZNAME:EDT
END:DAYLIGHT
END:VTIMEZONE
END:VCALENDAR