
BEGIN:VCALENDAR
VERSION:2.0
PRODID:-//wp-events-plugin.com//6.6.4.4//EN
TZID:America/New_York
X-WR-TIMEZONE:America/New_York
BEGIN:VEVENT
UID:4885@baileylibrary.org
DTSTART;TZID=America/New_York:20261212T130000
DTEND;TZID=America/New_York:20261212T130000
DTSTAMP:20260331T181021Z
URL:https://www.baileylibrary.org/events/bailey-fright-club-2026-12-12/
SUMMARY:Bailey Fright Club!
DESCRIPTION:For the month of December\, we will meet on the 2nd Saturday. W
 e will return to the 1st Saturday of the month in January. Looking for a s
 pooky new reading group? Join Bailey Fright Club\, Bailey Library's new ho
 rror book club! We meet on the first Saturday of each month to discuss a c
 hilling new read\, from timeless classics to terrifying new releases. If y
 ou're interested in joining or want more information\, email Michael at re
 ference@baileylibrary.org.
ATTACH;FMTTYPE=image/jpeg:https://www.baileylibrary.org/wp-content/uploads
 /2025/11/FrightClubLogo-Resized.png
CATEGORIES:Adults
END:VEVENT
BEGIN:VTIMEZONE
TZID:America/New_York
X-LIC-LOCATION:America/New_York
BEGIN:STANDARD
DTSTART:20261101T010000
TZOFFSETFROM:-0400
TZOFFSETTO:-0500
TZNAME:EST
END:STANDARD
END:VTIMEZONE
END:VCALENDAR