
BEGIN:VCALENDAR
VERSION:2.0
PRODID:-//wp-events-plugin.com//6.6.4.4//EN
TZID:America/New_York
X-WR-TIMEZONE:America/New_York
BEGIN:VEVENT
UID:2092@baileylibrary.org
DTSTART;TZID=America/New_York:20250124T130000
DTEND;TZID=America/New_York:20250124T130000
DTSTAMP:20241121T231828Z
URL:https://www.baileylibrary.org/events/bailey-cinemates-film-club-2025-0
 1-24/
SUMMARY:Bailey Cinemates Film Club
DESCRIPTION:Adult Services Librarian\, Leigh Wilkinson\, hosts a film club 
 for adults every 4th Friday of the month\, focusing on contemporary\, awar
 d-winning films. All movies are free with your library card! FMI: contact 
 Leigh at lwilkinson@baileylibrary.org.
ATTACH;FMTTYPE=image/jpeg:https://www.baileylibrary.org/wp-content/uploads
 /2022/11/My-project-1-1.jpg
CATEGORIES:Adults
END:VEVENT
BEGIN:VTIMEZONE
TZID:America/New_York
X-LIC-LOCATION:America/New_York
BEGIN:STANDARD
DTSTART:20241103T010000
TZOFFSETFROM:-0400
TZOFFSETTO:-0500
TZNAME:EST
END:STANDARD
END:VTIMEZONE
END:VCALENDAR