
BEGIN:VCALENDAR
VERSION:2.0
PRODID:-//wp-events-plugin.com//6.6.4.4//EN
TZID:America/New_York
X-WR-TIMEZONE:America/New_York
BEGIN:VEVENT
UID:3927@baileylibrary.org
DTSTART;TZID=America/New_York:20260718T090000
DTEND;TZID=America/New_York:20260718T090000
DTSTAMP:20260112T194118Z
URL:https://www.baileylibrary.org/events/annual-friends-of-the-library-sum
 mer-book-sale/
SUMMARY:Annual Friends of the Library Summer Book Sale!
DESCRIPTION:It's time once again for our annual Friends of the Library summ
 er book sale! It will be on both Saturday (9am - 3pm) AND Sunday (9am - 2p
 m) this year\, with Sunday being a bag sale all day (fill a bag for $5)! W
 e have received an abundance of wonderful books\, come browse through our 
 stash! Prices range from 25 cents to $2.00. One free book for every child 
 that comes to the sale! The Preview night is Friday July 18\, 6pm-8pm\, ti
 ckets available at the circulation desk. All proceeds to benefit the Charl
 es M. Bailey Public Library. For more information\, please email Joanne at
  jlebrun148@gmail.com.
ATTACH;FMTTYPE=image/jpeg:https://www.baileylibrary.org/wp-content/uploads
 /2024/06/Booksale-2-resized.jpg
CATEGORIES:Adults,Kids,Teens
END:VEVENT
BEGIN:VTIMEZONE
TZID:America/New_York
X-LIC-LOCATION:America/New_York
BEGIN:DAYLIGHT
DTSTART:20260308T030000
TZOFFSETFROM:-0500
TZOFFSETTO:-0400
TZNAME:EDT
END:DAYLIGHT
END:VTIMEZONE
END:VCALENDAR