
BEGIN:VCALENDAR
VERSION:2.0
PRODID:-//wp-events-plugin.com//6.6.4.4//EN
TZID:America/New_York
X-WR-TIMEZONE:America/New_York
BEGIN:VEVENT
UID:1606@baileylibrary.org
DTSTART;TZID=America/New_York:20240720T090000
DTEND;TZID=America/New_York:20240720T140000
DTSTAMP:20240701T193438Z
URL:https://www.baileylibrary.org/events/annual-friends-group-summer-book-
 sale/
SUMMARY:Annual Friends Group Summer Book Sale!
DESCRIPTION:It's time once again for our annual Friends Group summer book s
 ale\, and it'll be on both Saturday AND Sunday this year! It will be 9am t
 o 2pm both days\, with Sunday being a bag sale all day: fill a bag for $5!
  We have received an abundance of wonderful books\, come browse through ou
 r stash! Prices 25 cents to $2.00.The Preview night is Friday July 19\, 6p
 m-8pm\, tickets available at the circulation desk. All proceeds to benefit
  the Charles M. Bailey Public Library.
ATTACH;FMTTYPE=image/jpeg:https://www.baileylibrary.org/wp-content/uploads
 /2024/06/Booksale-2-resized.jpg
CATEGORIES:Adults,Kids,Teens
END:VEVENT
BEGIN:VTIMEZONE
TZID:America/New_York
X-LIC-LOCATION:America/New_York
BEGIN:DAYLIGHT
DTSTART:20240310T030000
TZOFFSETFROM:-0500
TZOFFSETTO:-0400
TZNAME:EDT
END:DAYLIGHT
END:VTIMEZONE
END:VCALENDAR