
BEGIN:VCALENDAR
VERSION:2.0
PRODID:-//wp-events-plugin.com//6.6.4.4//EN
TZID:America/New_York
X-WR-TIMEZONE:America/New_York
BEGIN:VEVENT
UID:2293@baileylibrary.org
DTSTART;TZID=America/New_York:20250720T090000
DTEND;TZID=America/New_York:20250720T140000
DTSTAMP:20250616T205813Z
URL:https://www.baileylibrary.org/events/annual-friends-group-summer-book-
 sale-4/
SUMMARY:Annual Friends of the Library Summer Book Sale!
DESCRIPTION:The book sale continues from 9am to 2pm Sunday as a bag sale - 
 fill a bag for $5! We have received an abundance of wonderful books\, come
  browse through our stash!  The Preview night is Friday July 18\, 6pm-8pm
 \, tickets available at the circulation desk. All proceeds to benefit the 
 Charles M. Bailey Public Library.
ATTACH;FMTTYPE=image/jpeg:https://www.baileylibrary.org/wp-content/uploads
 /2024/06/Booksale-2-resized.jpg
CATEGORIES:Adults,Kids,Teens
END:VEVENT
BEGIN:VTIMEZONE
TZID:America/New_York
X-LIC-LOCATION:America/New_York
BEGIN:DAYLIGHT
DTSTART:20250309T030000
TZOFFSETFROM:-0500
TZOFFSETTO:-0400
TZNAME:EDT
END:DAYLIGHT
END:VTIMEZONE
END:VCALENDAR