
BEGIN:VCALENDAR
VERSION:2.0
PRODID:-//wp-events-plugin.com//6.6.4.4//EN
TZID:America/New_York
X-WR-TIMEZONE:America/New_York
BEGIN:VEVENT
UID:4873@baileylibrary.org
DTSTART;TZID=America/New_York:20251212T113000
DTEND;TZID=America/New_York:20251212T113000
DTSTAMP:20251201T190403Z
URL:https://www.baileylibrary.org/events/adult-paint-party/
SUMMARY:Adult Paint Party!
DESCRIPTION:Join us for a festive adult Holiday Paint Party on Friday\, Dec
 ember 12th from 11:30am-2pm. Choose from two winter themed canvases\, a sn
 owman or a cardinal\, and enjoy a relaxing creative afternoon at the libra
 ry. Space is limited\, so be sure to reserve your spot by emailing Michael
  at reference@baileylibrary.org!
ATTACH;FMTTYPE=image/jpeg:https://www.baileylibrary.org/wp-content/uploads
 /2025/12/Paint-Party-resized.png
CATEGORIES:Adults
END:VEVENT
BEGIN:VTIMEZONE
TZID:America/New_York
X-LIC-LOCATION:America/New_York
BEGIN:STANDARD
DTSTART:20251102T010000
TZOFFSETFROM:-0400
TZOFFSETTO:-0500
TZNAME:EST
END:STANDARD
END:VTIMEZONE
END:VCALENDAR