
BEGIN:VCALENDAR
VERSION:2.0
PRODID:-//wp-events-plugin.com//6.6.4.4//EN
TZID:America/New_York
X-WR-TIMEZONE:America/New_York
BEGIN:VEVENT
UID:5029@baileylibrary.org
DTSTART;TZID=America/New_York:20260327T130000
DTEND;TZID=America/New_York:20260327T130000
DTSTAMP:20260302T205721Z
URL:https://www.baileylibrary.org/events/adult-cooking-class-soups-stews/
SUMMARY:Adult Cooking Class – Soups &#038\; Stews!
DESCRIPTION:Ready to sharpen your kitchen skills? Join us for a hands-on co
 oking class and learn how to make delicious soups and stews! This program 
 is sponsored by the Peter Alfond Prevention &amp\; Healthy Living Center. 
 Spots are limited\, so be sure to register in advance by calling the libra
 ry at 377-8673 or by emailing Michael at mstanley@baileylibrary.org.
ATTACH;FMTTYPE=image/jpeg:https://www.baileylibrary.org/wp-content/uploads
 /2026/03/Cooking-class-soups-resized.png
CATEGORIES:Adults
END:VEVENT
BEGIN:VTIMEZONE
TZID:America/New_York
X-LIC-LOCATION:America/New_York
BEGIN:DAYLIGHT
DTSTART:20260308T030000
TZOFFSETFROM:-0500
TZOFFSETTO:-0400
TZNAME:EDT
END:DAYLIGHT
END:VTIMEZONE
END:VCALENDAR